BEGIN:VCALENDAR
VERSION:2.0
PRODID:-//Independence Avenue CID - ECPv6.15.20//NONSGML v1.0//EN
CALSCALE:GREGORIAN
METHOD:PUBLISH
X-WR-CALNAME:Independence Avenue CID
X-ORIGINAL-URL:https://indieavecid.com
X-WR-CALDESC:Events for Independence Avenue CID
REFRESH-INTERVAL;VALUE=DURATION:PT1H
X-Robots-Tag:noindex
X-PUBLISHED-TTL:PT1H
BEGIN:VTIMEZONE
TZID:America/Chicago
BEGIN:DAYLIGHT
TZOFFSETFROM:-0600
TZOFFSETTO:-0500
TZNAME:CDT
DTSTART:20180311T080000
END:DAYLIGHT
BEGIN:STANDARD
TZOFFSETFROM:-0500
TZOFFSETTO:-0600
TZNAME:CST
DTSTART:20181104T070000
END:STANDARD
BEGIN:DAYLIGHT
TZOFFSETFROM:-0600
TZOFFSETTO:-0500
TZNAME:CDT
DTSTART:20190310T080000
END:DAYLIGHT
BEGIN:STANDARD
TZOFFSETFROM:-0500
TZOFFSETTO:-0600
TZNAME:CST
DTSTART:20191103T070000
END:STANDARD
BEGIN:DAYLIGHT
TZOFFSETFROM:-0600
TZOFFSETTO:-0500
TZNAME:CDT
DTSTART:20200308T080000
END:DAYLIGHT
BEGIN:STANDARD
TZOFFSETFROM:-0500
TZOFFSETTO:-0600
TZNAME:CST
DTSTART:20201101T070000
END:STANDARD
END:VTIMEZONE
BEGIN:VEVENT
DTSTART;TZID=America/Chicago:20190226T183000
DTEND;TZID=America/Chicago:20190226T200000
DTSTAMP:20260420T035159
CREATED:20190125T225821Z
LAST-MODIFIED:20190126T000311Z
UID:3010-1551205800-1551211200@indieavecid.com
SUMMARY:Lykins Neighborhood Assn. Steering Committee Meeting
DESCRIPTION:  \n\nLykins\nNeighborhood Association\n– STEERING COMMITTEE MEETING – \n\n  \nLOCATION:\nOffices of the Northeast Kansas City Chamber of Commerce in the\nCommunity Improvement District’s Community Room\n2657 Independence Avenue\, KCMO 64124\n(816) 231-3312 \nDATE / TIME:\nTuesday\, February 26\, 2019\n6:30 PM to 8:00 PM \nPARKING:\nHandicap parking available at the front of the building\, as well as off-street parking available at the north and south of the building. Additional parking available at Snyders Supermarket directly across the street\, north\, of the Chamber offices. \n\n\n\n\n 
URL:https://indieavecid.com/event/lykins-neighborhood-assn-steering-committee-meeting-2/
LOCATION:Northeast Kansas City Chamber of Commerce\, 2657 Independence Avenue\, Kansas City\, MO\, 64124\, United States
CATEGORIES:Community Conversation
ORGANIZER;CN="Lykins Neighborhood Association":MAILTO:LykinsKC@gmail.com
END:VEVENT
BEGIN:VEVENT
DTSTART;TZID=America/Chicago:20190212T100000
DTEND;TZID=America/Chicago:20190212T103000
DTSTAMP:20260420T035159
CREATED:20190205T204500Z
LAST-MODIFIED:20190205T210841Z
UID:3044-1549965600-1549967400@indieavecid.com
SUMMARY:Coffee on The Corridor
DESCRIPTION:Coffee\non the\nCorridor\n\n  \n You are officially invited to “Coffee on the Corridor” at the offices of the Northeast Kansas City Chamber of Commerce (NEKCCoC) and the Independence Avenue Community Improvement District (IA CID) located at 2657 Independence Avenue\, Kansas City\, Missouri 64124 on Tuesday\, February 12\, 2019 from 10:00 AM to 10:30 AM. \n Join us over coffee and donuts for a monthly ‘Meet & Greet’ every second Tuesday each month. We want to find out what YOU are interested in and share what we do at the NEKC Chamber of Commerce\, Independence Avenue CID and The EGG POP-UP Business Incubator & Gallery. \n*Painting by Haley Sellmeyer\, 12 in. x 12 in. Heavily textured mixed media\, acrylic. $40.00. Haley is a regular participant of our EGG POP-UP Business Incubator & Gallery. See more at: HaleySellmeyer.com \n\n\n\n\n 
URL:https://indieavecid.com/event/coffee-on-the-corridor-2/
LOCATION:Northeast Kansas City Chamber of Commerce\, 2657 Independence Avenue\, Kansas City\, MO\, 64124\, United States
CATEGORIES:Community Conversation
ORGANIZER;CN="Northeast Kansas City Chamber of Commerce":MAILTO:nekcchamber@aol.com
END:VEVENT
BEGIN:VEVENT
DTSTART;TZID=America/Chicago:20190129T183000
DTEND;TZID=America/Chicago:20190129T200000
DTSTAMP:20260420T035159
CREATED:20190125T224948Z
LAST-MODIFIED:20190126T000356Z
UID:3008-1548786600-1548792000@indieavecid.com
SUMMARY:Lykins Neighborhood Assn. Steering Committee Meeting
DESCRIPTION:  \n\nLykins\nNeighborhood Association\n– STEERING COMMITTEE MEETING – \n\n  \nLOCATION:\nOffices of the Northeast Kansas City Chamber of Commerce in the\nCommunity Improvement District’s Community Room\n2657 Independence Avenue\, KCMO 64124\n(816) 231-3312 \nDATE / TIME:\nTuesday\, January 29\, 2019\n6:30 PM to 8:00 PM \nPARKING:\nHandicap parking available at the front of the building\, as well as off-street parking available at the north and south of the building. Additional parking available at Snyders Supermarket directly across the street\, north\, of the Chamber offices.\n \n\n  \n\n\n\n\n 
URL:https://indieavecid.com/event/lykins-neighborhood-assn-steering-committee-meeting/
LOCATION:Northeast Kansas City Chamber of Commerce\, 2657 Independence Avenue\, Kansas City\, MO\, 64124\, United States
CATEGORIES:Community Conversation
ORGANIZER;CN="Lykins Neighborhood Association":MAILTO:LykinsKC@gmail.com
END:VEVENT
BEGIN:VEVENT
DTSTART;TZID=America/Chicago:20190126T100000
DTEND;TZID=America/Chicago:20190126T130000
DTSTAMP:20260420T035159
CREATED:20181130T004701Z
LAST-MODIFIED:20190125T215140Z
UID:2748-1548496800-1548507600@indieavecid.com
SUMMARY:The Mayoral Candidate Forum
DESCRIPTION: Join the Northeast Kansas City Chamber of Commerce at “The Mayoral Candidate Forum” on Saturday\, January 26\, 2019 at the Northeast High School located at 415 Van Brunt\, Kansas City\, MO 64124 as candidates for the upcoming Kansas City Mayoral election engage with the public! \n The forum will be broadcast LIVE on 100.1 FM as well as www.OneKCRadio.org\, and is the perfect opportunity for all Mayoral Candidates to engage with our community and get feedback on the challenges and concerns facing our neighborhoods. The event is free and open to the public. Questions at the forum are encouraged. Be part of the progress of our city and let your voice be heard! \nSPONSORS:\nMattie Rhodes Center\nNortheast Alliance Together (NEAT)\nNortheast Kansas City Chamber of Commerce\nOne Kansas City Radio\nNortheast News \n*A special thanks to Kansas City Public Schools for donating their resources. \n 
URL:https://indieavecid.com/event/the-mayoral-candidate-forum/
LOCATION:Northeast High School\, 415 Van Brunt Blvd.\, Kansas City\, MO\, 64124\, United States
CATEGORIES:Community Conversation,Community Events
END:VEVENT
BEGIN:VEVENT
DTSTART;TZID=America/Chicago:20190122T183000
DTEND;TZID=America/Chicago:20190122T200000
DTSTAMP:20260420T035159
CREATED:20190115T231511Z
LAST-MODIFIED:20190115T232047Z
UID:2960-1548181800-1548187200@indieavecid.com
SUMMARY:Lykins Neighborhood Assn. Steering Committee Meeting
DESCRIPTION:  \n\nLykins\nNeighborhood Association\n– STEERING COMMITTEE MEETING – \n\n  \nLOCATION:\nOffices of the Northeast Kansas City Chamber of Commerce in the\nCommunity Improvement District’s Community Room\n2657 Independence Avenue\, KCMO 64124\n(816) 231-3312 \nDATE / TIME:\nTuesday\, January 22\, 2019\n6:30 PM to 8:00 PM \nPARKING:\nHandicap parking available at the front of the building\, as well as off-street parking available at the north and south of the building. Additional parking available at Snyders Supermarket directly across the street\, north\, of the Chamber offices.\n \n\n  \n\n\n\n\n 
URL:https://indieavecid.com/event/lykins-neighborhood-assn-steering-committee/
LOCATION:Northeast Kansas City Chamber of Commerce\, 2657 Independence Avenue\, Kansas City\, MO\, 64124\, United States
CATEGORIES:Community Conversation
ORGANIZER;CN="Lykins Neighborhood Association":MAILTO:LykinsKC@gmail.com
END:VEVENT
END:VCALENDAR